Workbook

Sheet Info's
A9: Aktivitätenförderung des Stadtjugendring Ingolstadt
A10: Antragstellung
A12: Wie funktioniert die Antragstellung auf dem PC?
A14: Die Exceldatei ist gedacht zur Erleichterung für Antragsteller. Es stellt keine Möglichkeit zur elektronischen Antragstellung dar, ist also auf dem üblichen Weg in Papierform (im Original mit Unterschrift und Stempel) einzureichen.
A18: Nur auf den Blättern "Antrag Aktivitätenförderung" und "TN-Liste" können am PC Eintragungen gemacht werden. Die relevanten Felder sind im Antrag farblich hinterlegt. Die Unterschriften müssen eigenhändig erfolgen!
A22: Bitte keine Veränderungen am Formular vornehmen!
A24: Beim Antrag auf Aktivitätenförderung bereits vor der Maßnahme im Formular die Antragsseite soweit wie bereits möglich ausfüllen und abspeichern.
A27: Die TeilnehmerInnenliste ausdrucken, zur Maßnahme mitnehmen und dort die Felder "Name", "Alter" und "Anschrift" ausfüllen und unterschreiben lassen.
A29: Ist die Teilnehmerinnenliste bei der Maßnahme nicht greifbar gewesen, so kann eine Ersatzliste erstellt werden, die jedoch die gleichen Daten (auch Ort und Zeit der Maßnahme) enthalten muss.
A32: Bei der endgültigen Antragstellung das Antragsformular fertig ausfüllen, ausdrucken und unterschreiben und im Original an uns schicken (Stempel/Unterschrift d. örtl. Verbands- bzw. Vereinsjugendleitung)
A33: Bitte darauf achten, die lt. Förderrichtlinien notwendigen Unterlagen beizufügen!
A34: Ausführliche Info's finden Sie unter: | M34: https://www.sjr-in.de/Zuschüsse_Jugendverbände

Sheet Antragaktivit.
X1: Bearbeitungsnummer:
A3: Förderung von Aktivitäten
A4: nach den Richtlinien des Stadtjugendring Ingolstadt
A5: ANTRAG AUF AKTIVITÄTENFÖRDERUNG
A7: 1. Antragsteller (Verband/Verein)
A9: 1.1 Antrag ausgestellt von | J9: Name: | X9: Tel.:
J11: Anschrift: | X11: E-Mail:
A13: 2. Förderrichtlinie (§1 - §7) | M13: 3. Titel der Maßnahme
A15: 4. Maßnahmenleitung
A17: 5. Ort der Maßnahme
A19: 6. Dauer | J19: von | Q19: , | R19: : | V19: Uhr | X19: bis | AD19: , | AE19: : | AI19: Uhr
A21: 7. Zahl der Ingolstädter Teilnehmer/innen | T21: weiblich | AC21: männlich
A23: 8a. | B23: Zahl der beteiligten Jugendleiter/innen mit Juleica | T23: weiblich | AC23: männlich
A25: 8b. | B25: Zahl der beteiligten Jugendleiter/innen ohne Juleica | T25: weiblich | AC25: männlich
A27: 9. | B27: Einnahmen | S27: 10. | T27: Ausgaben
B29: a) Teilnehmergebühren | T29: a) Honorare
B31: b) Sonstige Zuschüsse von: | T31: b) Fahrtkosten
T33: c) Mieten
B35: c) Sonstige Zuschüsse von: | T35: d) Unterkunft und Verpflegung
T37: e) Arbeitsmaterialien
B39: d) Sonstige Einnahmen: | T39: f) Druck- und Werbekosten
T41: g) sonstige Nebenkosten
B45: Summe der Einnahmen | N45: =SUM(N29:Q41) -> 0 | T45: Summe der Ausgaben | AF45: =SUM(AF29:AF41) -> 0
A47: 11. Fehlbetrag ohne SJR-Zuschuss | R47: =AF45-N45 -> 0
A49: Weitere Antragsunterlagen
A55: Ausschreibung und Einladung:Aus der Ausschreibung oder Einladung müssen die Dauer, der angesprochene Teilnehmerkreis und die Teilnehmergebühren hervorgehen.
A56: Programmablauf
A57: Finanzierungsaufstellung: Mit der Finanzierungsaufstellung müssen alle mit der zu fördernden Maßnahme zusammenhängenden Einnahmen und Ausgaben aufgelistet werden. Belege müssen nicht beigefügt werden. Der SJR behält sich jedoch im Einzelfall eine Prüfung der Originalbelege vor.
A58: Teilnehmernachweis: Auf dem Teilnehmernachweis (siehe auch Vorlage) sind der Name, die Anschrift, das Alter und eine eigenhändige Unterschrift der Teilnehmer/innen und Jugendleiter/innen (inkl. JuLeiCa-Nummer) festzuhalten.
A59: Qualifizierungsnachweis: Nachweis über die Qualifizierung der Maßnahmeleitung in Form einer Kopie der Jugendleitercard oder geeigneten Nachweisen über Art, Umfang und Gültigkeit der Jugendleiterausbildung
A61: Die Überweisung des Zuschusses soll erfolgen auf: ACHTUNG BITTE DIE NEUE IBAN-NR. ANGEBEN:
A62: IBAN | F62: DE | S62: BIC
A64: Geldinstitut: | S64: Kontoinhaber:
A66: Der Antragsteller versichert, daß die vorstehenden Angaben vollständig sind und der Wahrheit entsprechen. Der Antragsteller erklärt, daß die Zuwendung zweckentsprechend verwendet wird.
A68: Datum: | S68: Unterschrift/Stempel:

Sheet Bewilligungakt.
W1: Bearbeitungsnummer:
A8: Förderung von Aktivitäten
A9: nach den Richtlinien des Stadtjugendring Ingolstadt
A10: Bewilligung von Aktivitätenförderung
A12: 1. | B12: Antragsteller | J12: =Antragaktivit.!J7 -> 0
A14: 2. | B14: Förderbereich | J14: =Antragaktivit.!J11 -> Anschrift:
A16: 3. | B16: Titel der Maßnahme | J16: =Antragaktivit.!J13 -> 0
A18: 4. | B18: Maßnahmeleitung | J18: =Antragaktivit.!J15 -> 0
A20: 5. | B20: Ort der Maßnahme (PLZ) | J20: =Antragaktivit.!J17 -> 0
A22: 6. | B22: Dauer: | T22: vom | W22: =Antragaktivit.!L19 -> 0 | AC22: bis | AF22: =Antragaktivit.!Y19 -> 0
A24: 7. | B24: Zahl der Ingolstädter Teilnehmer/innen | T24: weiblich | W24: =Antragaktivit.!W21 -> 0 | AC24: männlich | AF24: =Antragaktivit.!AF21 -> 0
A26: 8a. | B26: Zahl der beteiligten Jugendleiter/innen mit Juleica | T26: weiblich | W26: =Antragaktivit.!W23 -> 0 | AC26: männlich | AF26: =Antragaktivit.!AF23 -> 0
A28: 8b. | B28: Zahl der beteiligten Jugendleiter/innen ohne Juleica | T28: weiblich | W28: =Antragaktivit.!W25 -> 0 | AC28: männlich | AF28: =Antragaktivit.!AF25 -> 0
A30: 9. | B30: Einnahmen | S30: 10. | T30: Ausgaben:
B32: a) Teilnehmergebühren | N32: =Antragaktivit.!N29 -> 0 | T32: a) Honorare | AF32: =Antragaktivit.!AF29 -> 0
B34: b) Sonstige Zuschüsse von: | T34: b) Fahrtkosten | AF34: =Antragaktivit.!AF31 -> 0
C36: =Antragaktivit.!C33 -> 0 | N36: =Antragaktivit.!N33 -> 0 | T36: c) Mieten | AF36: =Antragaktivit.!AF33 -> 0
B38: c) Sonstige Zuschüsse von: | T38: d) Unterkunft und Verpflegung | AF38: =Antragaktivit.!AF35 -> 0
C40: =Antragaktivit.!C37 -> 0 | N40: =Antragaktivit.!N37 -> 0 | T40: e) Arbeitsmaterialien | AF40: =Antragaktivit.!AF37 -> 0
B42: d) Sonstige Einnahmen: | T42: f) Druck- und Werbekosten | AF42: =Antragaktivit.!AF39 -> 0
C44: =Antragaktivit.!C41 -> 0 | N44: =Antragaktivit.!N41 -> 0 | T44: g) sonstige Nebenkosten | AF44: =Antragaktivit.!AF41 -> 0
B47: Summe der Einnahmen | N47: =Antragaktivit.!N45 -> 0 | T47: Summe der Ausgaben | AF47: =Antragaktivit.!AF45 -> 0
E49: 11. Fehlbetrag ohne SJR - Zuschuss | R49: =AF47-N47 -> 0
A59: Die Überweisung des Zuschusses erfolgt auf Konto-Nr.: | Q59: =Antragaktivit.!Q62 -> 0 | W59: BLZ: | AA59: =Antragaktivit.!AA62 -> 0
A61: Geldinstitut: | F61: =Antragaktivit.!F64 -> 0 | W61: Kontoinhaber | AA61: =Antragaktivit.!AA64 -> 0
A64: Vom SJR IN auszufüllen:
A66: Gesamtausgaben | S66: Förderbetrag | AH66: €
A67: Fehlbetrag | S67: Die Förderung darf das Defitzit nicht übersteigen!
A68: ____Euro x ____TN x ____Tage
A70: Bearbeitungsvermerk des SJR IN
A72: Auf den oben bezeichneten Antrag hin gewähren wir Ihnen im Wege der Anteilsfinanzierung aus Mitteln der Aktivitäten-Förderung des Stadtjugendring Ingolstadt einen Zuschuss nach unseren geltenden Richtlinien.
A74: Die Förderung ist zweckbestimmt für die oben genannte Maßnahme.
A76: Hinweis für den Antragsteller: | S76: bewilligter Betrag | AH76: €
S82: Datum | AA82: Unterschrift:

Sheet Betreuer-Liste
A1: Teilnehmerliste - Jugendleiter | D1: Antragsteller: | E1: =Antragaktivit.!M7 -> 0 | U1: Beginn am: | V1: =Antragaktivit.!L19 -> 0
A2: Seite 1 | D2: Titel der Maßnahme | E2: =Antragaktivit.!U13 -> 0 | U2: Ende am: | V2: =Antragaktivit.!Y19 -> 0
D3: Ort der Maßnahme: | E3: =Antragaktivit.!J17 -> 0
A5: A. | B5: Referenten/innen, Jugendleiter, verantwortliche Mitarbeiter/innen
A7: Nr. | B7: Zuname, Vorname | C7: Alter | D7: Straße, Hausnummer | E7: PLZ, Wohnort | F7: Anwesenheitstage | T7: eigenhändige Unterschrift
A8: 1.
B9: Juleica-Nr.: gültig bis:
A10: 2.
B11: Juleica-Nr.: gültig bis:
A12: 3.
B13: Juleica-Nr.: gültig bis:
A14: 4.
B15: Juleica-Nr.: gültig bis:
A16: 5.
B17: Juleica-Nr.: gültig bis:
A18: 6.
B19: Juleica-Nr.: gültig bis:
A20: 7.
B21: Juleica-Nr.: gültig bis:
A22: 8.
B23: Juleica-Nr.: gültig bis:
A24: 9.
B25: Juleica-Nr.: gültig bis:
A26: 10.
B27: Juleica-Nr.: gültig bis:

Sheet Teilnehmer-Liste
A1: Teilnehmerliste | D1: Antragsteller: | E1: =Antragaktivit.!M7 -> 0 | U1: Beginn am: | V1: =Antragaktivit.!L19 -> 0
D2: Bezeichnung der Maßnahme | E2: =Antragaktivit.!U13 -> 0 | U2: Ende am: | V2: =Antragaktivit.!Y19 -> 0
D3: Ort der Maßnahme: | E3: =Antragaktivit.!J17 -> 0
A5: B. | B5: Teilnehmer/innen
A6: Nr. | B6: Zuname, Vorname | C6: Alter | D6: Straße, Hausnummer | E6: PLZ, Ort | F6: Anwesenheitstage | T6: eigenhändige Unterschrift
A7: 1
A8: 2
A9: 3
A10: 4
A11: 5
A12: 6
A13: 7
A14: 8
A15: 9
A16: 10
A17: 11
A18: 12
... A111: 105
