Workbook

Sheet Bewilligungakt.
W1: Bearbeitungsnummer:
A8: Förderung von Aktivitäten
A9: nach den Richtlinien des Stadtjugendring Ingolstadt
A10: Bewilligung von Aktivitätenförderung
A12: 1. | B12: Antragsteller | J12: =#REF! -> #REF!
A14: 2. | B14: Förderbereich | J14: =#REF! -> #REF!
A16: 3. | B16: Titel der Maßnahme | J16: =#REF! -> #REF!
A18: 4. | B18: Maßnahmeleitung | J18: =#REF! -> #REF!
A20: 5. | B20: Ort der Maßnahme (PLZ) | J20: =#REF! -> #REF!
A22: 6. | B22: Dauer: | T22: vom | W22: =#REF! -> #REF! | AC22: bis | AF22: =#REF! -> #REF!
A24: 7. | B24: Zahl der Ingolstädter Teilnehmer/innen | T24: weiblich | W24: =#REF! -> #REF! | AC24: männlich | AF24: =#REF! -> #REF!
A26: 8a. | B26: Zahl der beteiligten Jugendleiter/innen mit Juleica | T26: weiblich | W26: =#REF! -> #REF! | AC26: männlich | AF26: =#REF! -> #REF!
A28: 8b. | B28: Zahl der beteiligten Jugendleiter/innen ohne Juleica | T28: weiblich | W28: =#REF! -> #REF! | AC28: männlich | AF28: =#REF! -> #REF!
A30: 9. | B30: Einnahmen | S30: 10. | T30: Ausgaben:
B32: a) Teilnehmergebühren | N32: =#REF! -> #REF! | T32: a) Honorare | AF32: =#REF! -> #REF!
B34: b) Sonstige Zuschüsse von: | T34: b) Fahrtkosten | AF34: =#REF! -> #REF!
C36: =#REF! -> #REF! | N36: =#REF! -> #REF! | T36: c) Mieten | AF36: =#REF! -> #REF!
B38: c) Sonstige Zuschüsse von: | T38: d) Unterkunft und Verpflegung | AF38: =#REF! -> #REF!
C40: =#REF! -> #REF! | N40: =#REF! -> #REF! | T40: e) Arbeitsmaterialien | AF40: =#REF! -> #REF!
B42: d) Sonstige Einnahmen: | T42: f) Druck- und Werbekosten | AF42: =#REF! -> #REF!
C44: =#REF! -> #REF! | N44: =#REF! -> #REF! | T44: g) sonstige Nebenkosten | AF44: =#REF! -> #REF!
B47: Summe der Einnahmen | N47: =#REF! -> #REF! | T47: Summe der Ausgaben | AF47: =#REF! -> #REF!
E49: 11. Fehlbetrag ohne SJR - Zuschuss | R49: =AF47-N47 -> #REF!
A59: Die Überweisung des Zuschusses erfolgt auf Konto-Nr.: | Q59: =#REF! -> #REF! | W59: BLZ: | AA59: =#REF! -> #REF!
A61: Geldinstitut: | F61: =#REF! -> #REF! | W61: Kontoinhaber | AA61: =#REF! -> #REF!
A64: Vom SJR IN auszufüllen:
A66: Gesamtausgaben | S66: Förderbetrag | AH66: €
A67: Fehlbetrag | S67: Die Förderung darf das Defitzit nicht übersteigen!
A68: ____Euro x ____TN x ____Tage
A70: Bearbeitungsvermerk des SJR IN
A72: Auf den oben bezeichneten Antrag hin gewähren wir Ihnen im Wege der Anteilsfinanzierung aus Mitteln der Aktivitäten-Förderung des Stadtjugendring Ingolstadt einen Zuschuss nach unseren geltenden Richtlinien.
A74: Die Förderung ist zweckbestimmt für die oben genannte Maßnahme.
A76: Hinweis für den Antragsteller: | S76: bewilligter Betrag | AH76: €
S82: Datum | AA82: Unterschrift:

Sheet Teilnehmer_innen-Liste
E2: Antragsteller:
E3: Titel der Maßnahme: | I3: Beginn am:
E4: Ort der Maßnahme: | I4: Ende am:
A6: A. Teilnehmende Kinder, Jugendliche, junge Erwachsene (von 6 bis einschl. 26 Jahren)
A8: Nr. | B8: Nachname | C8: Vorname | D8: Alter | E8: Geschlecht m/w/d | F8: Straße, Hausnummer | G8: PLZ Ingolstadt | H8: PLZ, Ort aus anderem Landkreis (z.B. EI, PAF, ND-SOB) | I8: Anwesen-heitstage | J8: Eigenhändige Unterschrift
A9: 1.
A10: 2.
A11: 3.
A12: 4.
A13: 5.
A14: 6.
A15: 7.
A16: 8.
A17: 9.
A18: 10.
A19: 11.
A20: 12.
... A28: 20.
E30: Antragsteller: | F30: =$F$2 -> 0
E31: Titel der Maßnahme: | F31: =$F$3 -> 0 | I31: Beginn am: | J31: =$J$3 -> 0
E32: Ort der Maßnahme: | F32: =$F$4 -> 0 | I32: Ende am: | J32: =$J$4 -> 0
A34: A. Teilnehmende Kinder, Jugendliche, junge Erwachsene (von 6 bis einschl. 26 Jahren)
A36: Nr. | B36: Nachname | C36: Vorname | D36: Alter | E36: Geschlecht m/w/d | F36: Straße, Hausnummer | G36: PLZ Ingolstadt | H36: PLZ, Ort aus anderem Landkreis (z.B. EI, PAF, ND-SOB) | I36: Anwesen-heitstage | J36: Eigenhändige Unterschrift
A37: 21.
A38: 22.
A39: 23.
A40: 24.
A41: 25.
A42: 26.
A43: 27.
A44: 28.
A45: 29.
A46: 30.
A47: 31.
A48: 32.
... A56: 40.
E58: Antragsteller: | F58: =$F$2 -> 0
E59: Titel der Maßnahme: | F59: =$F$3 -> 0 | I59: Beginn am: | J59: =$J$3 -> 0
E60: Ort der Maßnahme: | F60: =$F$4 -> 0 | I60: Ende am: | J60: =$J$4 -> 0
A62: A. Teilnehmende Kinder, Jugendliche, junge Erwachsene (von 6 bis einschl. 26 Jahren)
...

Sheet Betreuer_innen-Liste
E2: Antragsteller: | F2: ='Teilnehmer_innen-Liste'!$F$2 -> 0
E3: Titel der Maßnahme: | F3: ='Teilnehmer_innen-Liste'!$F$3 -> 0 | H3: Beginn am: | I3: ='Teilnehmer_innen-Liste'!$J$3 -> 0
E4: Ort der Maßnahme: | F4: ='Teilnehmer_innen-Liste'!$F$4 -> 0 | H4: Ende am: | I4: ='Teilnehmer_innen-Liste'!$J$4 -> 0
A6: B. Jugendleiter*innen, Referenten*innen, Jugendleiter*innen, verantwortliche Mitarbeiter*innen
A8: Nr. | B8: Nachname, Vorname | D8: Alter | E8: Geschlechtm/w/d | F8: Straße, Hausnummer | G8: PLZ, Wohnort | H8: Anwesen-heitstage | I8: Eigenhändige Unterschrift
A9: 1.
B10: Juleica-Nr.: | C10: gültig bis:
A12: 2.
B13: Juleica-Nr.: | C13: gültig bis:
A15: 3.
B16: Juleica-Nr.: | C16: gültig bis:
A18: 4.
B19: Juleica-Nr.: | C19: gültig bis:
A21: 5.
B22: Juleica-Nr.: | C22: gültig bis:
A24: 6.
B25: Juleica-Nr.: | C25: gültig bis:
A27: 7.
B28: Juleica-Nr.: | C28: gültig bis:
A30: 8.
B31: Juleica-Nr.: | C31: gültig bis:
E34: Antragsteller: | F34: ='Teilnehmer_innen-Liste'!$F$2 -> 0
E35: Titel der Maßnahme: | F35: ='Teilnehmer_innen-Liste'!$F$3 -> 0 | H35: Beginn am: | I35: ='Teilnehmer_innen-Liste'!$J$3 -> 0
E36: Ort der Maßnahme: | F36: ='Teilnehmer_innen-Liste'!$F$4 -> 0 | H36: Ende am: | I36: ='Teilnehmer_innen-Liste'!$J$4 -> 0
A38: B. Jugendleiter*innen, Referenten*innen, Jugendleiter*innen, verantwortliche Mitarbeiter*innen
A40: Nr. | B40: Nachname, Vorname | D40: Alter | E40: Geschlechtm/w/d | F40: Straße, Hausnummer | G40: PLZ, Wohnort | H40: Anwesen-heitstage | I40: Eigenhändige Unterschrift
A41: 9.
B42: Juleica-Nr.: | C42: gültig bis:
A44: 10.
B45: Juleica-Nr.: | C45: gültig bis:
A47: 11.
B48: Juleica-Nr.: | C48: gültig bis:
A50: 12.
B51: Juleica-Nr.: | C51: gültig bis:
A53: 13.
B54: Juleica-Nr.: | C54: gültig bis:
A56: 14.
B57: Juleica-Nr.: | C57: gültig bis:
A59: 15.
B60: Juleica-Nr.: | C60: gültig bis:
...

Sheet Gesamt (Angaben für Antrag)
C3: Zusammenfassung
C9: Antragsteller: | D9: ='Teilnehmer_innen-Liste'!F2 -> 0
C10: Titel der Maßnahme: | D10: ='Teilnehmer_innen-Liste'!F3 -> 0
C11: Ort der Maßnahme: | D11: ='Teilnehmer_innen-Liste'!F4 -> 0
C12: Beginn am: | D12: ='Teilnehmer_innen-Liste'!J3 -> 0
C13: Ende am: | D13: ='Teilnehmer_innen-Liste'!J4 -> 0
C17: Teilnehmer*innen aus Ingolstadt: | D17: =COUNTA('Teilnehmer_innen-Liste'!G9:G28,'Teilnehmer_innen-Liste'!G37:G56,'Teilnehmer_innen-Liste'!G65:G84) -> 0
A18: Teilnehmer*innen aus anderen Landkreisen: | D18: =COUNTA('Teilnehmer_innen-Liste'!H9:H28,'Teilnehmer_innen-Liste'!H37:H56,'Teilnehmer_innen-Liste'!H65:H84) -> 0
C19: Betreuer*innen ohne Juleica: | D19: =COUNTA('Betreuer_innen-Liste'!B9:C9,'Betreuer_innen-Liste'!B12:C12,'Betreuer_innen-Liste'!B15:C15,'Betreuer_innen-Liste'!B18:C18,'Betreuer_innen-Liste'!B21:C21,'Betreuer_innen-Liste'!B24:C24,'Betreuer_innen-Liste'!B27:C27,'Betreuer_innen-Liste'!B30:C30,'Betreuer_innen-Liste'!B41:C41,'Betreuer_innen-Liste'!B44:C44,'Betreuer_innen-Liste'!B47:C47,'Betreuer_innen-Liste'!B50:C50,'Betreuer_innen-Liste'!B53:C53,'Betreuer_innen-Liste'!B56:C56,'Betreuer_innen-Liste'!B59:C59,'Betreuer_innen-Liste'!B62:C62)-D20 -> 0
C20: Betreuer*innen mit Juleica: | D20: =COUNTA('Betreuer_innen-Liste'!B11,'Betreuer_innen-Liste'!B14,'Betreuer_innen-Liste'!B17,'Betreuer_innen-Liste'!B20,'Betreuer_innen-Liste'!B23,'Betreuer_innen-Liste'!B26,'Betreuer_innen-Liste'!B29,'Betreuer_innen-Liste'!B32,'Betreuer_innen-Liste'!B43,'Betreuer_innen-Liste'!B46,'Betreuer_innen-Liste'!B49,'Betreuer_innen-Liste'!B52,'Betreuer_innen-Liste'!B55,'Betreuer_innen-Liste'!B58,'Betreuer_innen-Liste'!B61,'Betreuer_innen-Liste'!B64) -> 0
C24: Statistik
C27: förderf. Teilnehmerinnen weiblich: | D27: =COUNTIFS('Teilnehmer_innen-Liste'!$E$9:$E$84,"=w",'Teilnehmer_innen-Liste'!$D$9:$D$84,">5",'Teilnehmer_innen-Liste'!$D$9:$D$84,"<27",'Teilnehmer_innen-Liste'!$G$9:$G$84,">85048") -> 0
C28: förderf. Teilnehmer männlich: | D28: =COUNTIFS('Teilnehmer_innen-Liste'!$E$9:$E$84,"=m",'Teilnehmer_innen-Liste'!$D$9:$D$84,">5",'Teilnehmer_innen-Liste'!$D$9:$D$84,"<27",'Teilnehmer_innen-Liste'!$G$9:$G$84,">85048") -> 0
C29: förderf. Teilnehmer*innen divers: | D29: =COUNTIFS('Teilnehmer_innen-Liste'!$E$9:$E$84,"=d",'Teilnehmer_innen-Liste'!$D$9:$D$84,">5",'Teilnehmer_innen-Liste'!$D$9:$D$84,"<27",'Teilnehmer_innen-Liste'!$G$9:$G$84,">85048") -> 0
C30: Teilnehmer*innen 6-12 Jahre: | D30: =COUNTIFS('Teilnehmer_innen-Liste'!$D$9:$D$84,">5",'Teilnehmer_innen-Liste'!$D$9:$D$84,"<13") -> 0
C31: Teilnehmer*innen 13-17 Jahre: | D31: =COUNTIFS('Teilnehmer_innen-Liste'!$D$9:$D$84,">12",'Teilnehmer_innen-Liste'!$D$9:$D$84,"<18") -> 0
C32: Teilnehmer*innen über 18 Jahre: | D32: =COUNTIF('Teilnehmer_innen-Liste'!$D$9:$D$84,">17") -> 0
C33: Betreuer*innen 14-17 Jahre: | D33: =COUNTIFS('Betreuer_innen-Liste'!$D$9:$D$64,"<18",'Betreuer_innen-Liste'!$D$9:$D$64,">13") -> 0
C34: Betreuer*innen über 18 Jahre: | D34: =COUNTIF('Betreuer_innen-Liste'!$D$9:$D$64,">17") -> 0
A44: Dropdownmenü
A45: Geschlecht | B45: PLZ IN
A46: m | B46: 85049
A47: w | B47: 85051
A48: d | B48: 85053
B49: 85055
B50: 85057
